BEGIN:VCALENDAR
VERSION:2.0
PRODID:-//ECC - ECPv6.15.20//NONSGML v1.0//EN
CALSCALE:GREGORIAN
METHOD:PUBLISH
X-WR-CALNAME:ECC
X-ORIGINAL-URL:https://eccseattle.org
X-WR-CALDESC:Events for ECC
REFRESH-INTERVAL;VALUE=DURATION:PT1H
X-Robots-Tag:noindex
X-PUBLISHED-TTL:PT1H
BEGIN:VTIMEZONE
TZID:America/Los_Angeles
BEGIN:DAYLIGHT
TZOFFSETFROM:-0800
TZOFFSETTO:-0700
TZNAME:PDT
DTSTART:20220313T100000
END:DAYLIGHT
BEGIN:STANDARD
TZOFFSETFROM:-0700
TZOFFSETTO:-0800
TZNAME:PST
DTSTART:20221106T090000
END:STANDARD
BEGIN:DAYLIGHT
TZOFFSETFROM:-0800
TZOFFSETTO:-0700
TZNAME:PDT
DTSTART:20230312T100000
END:DAYLIGHT
BEGIN:STANDARD
TZOFFSETFROM:-0700
TZOFFSETTO:-0800
TZNAME:PST
DTSTART:20231105T090000
END:STANDARD
BEGIN:DAYLIGHT
TZOFFSETFROM:-0800
TZOFFSETTO:-0700
TZNAME:PDT
DTSTART:20240310T100000
END:DAYLIGHT
BEGIN:STANDARD
TZOFFSETFROM:-0700
TZOFFSETTO:-0800
TZNAME:PST
DTSTART:20241103T090000
END:STANDARD
END:VTIMEZONE
BEGIN:VEVENT
DTSTART;TZID=America/Los_Angeles:20230710T080000
DTEND;TZID=America/Los_Angeles:20230728T170000
DTSTAMP:20260419T160220
CREATED:20230630T183950Z
LAST-MODIFIED:20230701T003653Z
UID:16259-1688976000-1690563600@eccseattle.org
SUMMARY:Taiwan Missions Trip 台灣短宣
DESCRIPTION:
URL:https://eccseattle.org/news-events/taiwan-mission-trip-%e5%8f%b0%e7%81%a3%e7%9f%ad%e5%ae%a3%e9%9a%8a/
LOCATION:Taiwan
END:VEVENT
END:VCALENDAR