BEGIN:VCALENDAR
VERSION:2.0
PRODID:-//ECC - ECPv6.15.20//NONSGML v1.0//EN
CALSCALE:GREGORIAN
METHOD:PUBLISH
X-WR-CALNAME:ECC
X-ORIGINAL-URL:https://eccseattle.org
X-WR-CALDESC:Events for ECC
REFRESH-INTERVAL;VALUE=DURATION:PT1H
X-Robots-Tag:noindex
X-PUBLISHED-TTL:PT1H
BEGIN:VTIMEZONE
TZID:America/Los_Angeles
BEGIN:DAYLIGHT
TZOFFSETFROM:-0800
TZOFFSETTO:-0700
TZNAME:PDT
DTSTART:20250309T100000
END:DAYLIGHT
BEGIN:STANDARD
TZOFFSETFROM:-0700
TZOFFSETTO:-0800
TZNAME:PST
DTSTART:20251102T090000
END:STANDARD
BEGIN:DAYLIGHT
TZOFFSETFROM:-0800
TZOFFSETTO:-0700
TZNAME:PDT
DTSTART:20260308T100000
END:DAYLIGHT
BEGIN:STANDARD
TZOFFSETFROM:-0700
TZOFFSETTO:-0800
TZNAME:PST
DTSTART:20261101T090000
END:STANDARD
BEGIN:DAYLIGHT
TZOFFSETFROM:-0800
TZOFFSETTO:-0700
TZNAME:PDT
DTSTART:20270314T100000
END:DAYLIGHT
BEGIN:STANDARD
TZOFFSETFROM:-0700
TZOFFSETTO:-0800
TZNAME:PST
DTSTART:20271107T090000
END:STANDARD
END:VTIMEZONE
BEGIN:VEVENT
DTSTART;TZID=America/Los_Angeles:20260118T110000
DTEND;TZID=America/Los_Angeles:20260118T130000
DTSTAMP:20260423T041750
CREATED:20251204T194310Z
LAST-MODIFIED:20260110T000943Z
UID:28621-1768734000-1768741200@eccseattle.org
SUMMARY:2026 Spring Congregational Meeting 春季會員大會
DESCRIPTION:2026會員大會和教會預算說明會 \n\n教會擬訂1/18崇拜後召開會員大會，大會通知書和預算摘要表已寄發給會員。尚未收到通知書或有問題的會員，請電郵：Info@ECCSeattle.org。不克出席大會之會員，可於1/12之前向辦公室或所屬堂會執事領取缺席選票。\n因會員大會時間有限，若您想更詳細瞭解2026年的各項預算，請務必參加1/17 (週六) 9:30AM的視訊預算說明會。Meeting ID 和 Passcode 列於寄發之預算表下方。\n\n2026 Congregational Meeting & Budget Preview Meeting \n\n\n\n The Members’ Meeting will be held after the worship service on January 18. The meeting notice and 2026 budget summary have been mailed. Members unable to attend may request an absentee ballot by January 12 from the church office or their congregational deacon. For questions or missing notices\, please email Info@ECCSeattle.org.\nTo learn more about the 2026 budget\, please attend the online Budget Information Meeting on Saturday\, January 17\, at 9:30 AM. The Meeting ID and Passcode are listed on the budget summary.
URL:https://eccseattle.org/news-events/congregational-meeting-%e6%9c%83%e5%93%a1%e5%a4%a7%e6%9c%83-3/
CATEGORIES:All Campuses,Edmonds Campus,Redmond Campus,Seattle Campus
END:VEVENT
END:VCALENDAR