BEGIN:VCALENDAR
VERSION:2.0
PRODID:-//ECC - ECPv6.15.20//NONSGML v1.0//EN
CALSCALE:GREGORIAN
METHOD:PUBLISH
X-WR-CALNAME:ECC
X-ORIGINAL-URL:https://eccseattle.org
X-WR-CALDESC:Events for ECC
REFRESH-INTERVAL;VALUE=DURATION:PT1H
X-Robots-Tag:noindex
X-PUBLISHED-TTL:PT1H
BEGIN:VTIMEZONE
TZID:America/Los_Angeles
BEGIN:DAYLIGHT
TZOFFSETFROM:-0800
TZOFFSETTO:-0700
TZNAME:PDT
DTSTART:20240310T100000
END:DAYLIGHT
BEGIN:STANDARD
TZOFFSETFROM:-0700
TZOFFSETTO:-0800
TZNAME:PST
DTSTART:20241103T090000
END:STANDARD
BEGIN:DAYLIGHT
TZOFFSETFROM:-0800
TZOFFSETTO:-0700
TZNAME:PDT
DTSTART:20250309T100000
END:DAYLIGHT
BEGIN:STANDARD
TZOFFSETFROM:-0700
TZOFFSETTO:-0800
TZNAME:PST
DTSTART:20251102T090000
END:STANDARD
BEGIN:DAYLIGHT
TZOFFSETFROM:-0800
TZOFFSETTO:-0700
TZNAME:PDT
DTSTART:20260308T100000
END:DAYLIGHT
BEGIN:STANDARD
TZOFFSETFROM:-0700
TZOFFSETTO:-0800
TZNAME:PST
DTSTART:20261101T090000
END:STANDARD
END:VTIMEZONE
BEGIN:VEVENT
DTSTART;TZID=America/Los_Angeles:20250808T170000
DTEND;TZID=America/Los_Angeles:20250810T140000
DTSTAMP:20260423T124345
CREATED:20240925T182219Z
LAST-MODIFIED:20250625T165516Z
UID:23802-1754672400-1754834400@eccseattle.org
SUMMARY:Mandarin Summer Conference 國語夏令會
DESCRIPTION:2025 國語夏令會\n主題：神的主權和祂的救贖 (God’s Sovereignty and His SalvaƟon)\n講員：常思恩牧師 日期： 8/8-10 (週五至主日)\n地點： Black Diamond Camp (19830 SE 328th Pl\, Auburn)\n報名：即日起接受報名，鼓勵弟兄姊妹線上報名\n(住宿報名截止： 7/20，通勤報名截止： 8/3)\n報名鏈接： https://bit.ly/MSConf2025
URL:https://eccseattle.org/news-events/mandarin-summer-conference/
LOCATION:Black Diamond Camps\, 19830 SE 328th Pl\, Auburn\, WA\, 98092\, United States
CATEGORIES:All Campuses,Edmonds Campus,Mandarin Ministry Event,Redmond Campus,Seattle Campus
END:VEVENT
END:VCALENDAR