BEGIN:VCALENDAR
VERSION:2.0
PRODID:-//ECC - ECPv6.15.20//NONSGML v1.0//EN
CALSCALE:GREGORIAN
METHOD:PUBLISH
X-WR-CALNAME:ECC
X-ORIGINAL-URL:https://eccseattle.org
X-WR-CALDESC:Events for ECC
REFRESH-INTERVAL;VALUE=DURATION:PT1H
X-Robots-Tag:noindex
X-PUBLISHED-TTL:PT1H
BEGIN:VTIMEZONE
TZID:America/Los_Angeles
BEGIN:DAYLIGHT
TZOFFSETFROM:-0800
TZOFFSETTO:-0700
TZNAME:PDT
DTSTART:20250309T100000
END:DAYLIGHT
BEGIN:STANDARD
TZOFFSETFROM:-0700
TZOFFSETTO:-0800
TZNAME:PST
DTSTART:20251102T090000
END:STANDARD
BEGIN:DAYLIGHT
TZOFFSETFROM:-0800
TZOFFSETTO:-0700
TZNAME:PDT
DTSTART:20260308T100000
END:DAYLIGHT
BEGIN:STANDARD
TZOFFSETFROM:-0700
TZOFFSETTO:-0800
TZNAME:PST
DTSTART:20261101T090000
END:STANDARD
BEGIN:DAYLIGHT
TZOFFSETFROM:-0800
TZOFFSETTO:-0700
TZNAME:PDT
DTSTART:20270314T100000
END:DAYLIGHT
BEGIN:STANDARD
TZOFFSETFROM:-0700
TZOFFSETTO:-0800
TZNAME:PST
DTSTART:20271107T090000
END:STANDARD
END:VTIMEZONE
BEGIN:VEVENT
DTSTART;VALUE=DATE:20260320
DTEND;VALUE=DATE:20260323
DTSTAMP:20260421T051830
CREATED:20260109T173025Z
LAST-MODIFIED:20260304T173744Z
UID:36455-1773964800-1774223999@eccseattle.org
SUMMARY:CG Camp 大學生營會 (英語)
DESCRIPTION:
URL:https://eccseattle.org/news-events/cg-camp-%e5%a4%a7%e5%ad%b8%e7%94%9f%e7%87%9f%e6%9c%83-%e8%8b%b1%e8%aa%9e/
LOCATION:Lakeside Bible Camp\, 4170 Bible Camp Dr\, Clinton\, WA\, 98236
CATEGORIES:All Campuses,English Ministry Event
END:VEVENT
END:VCALENDAR