BEGIN:VCALENDAR
VERSION:2.0
PRODID:-//ECC - ECPv6.15.20//NONSGML v1.0//EN
CALSCALE:GREGORIAN
METHOD:PUBLISH
X-WR-CALNAME:ECC
X-ORIGINAL-URL:https://eccseattle.org
X-WR-CALDESC:Events for ECC
REFRESH-INTERVAL;VALUE=DURATION:PT1H
X-Robots-Tag:noindex
X-PUBLISHED-TTL:PT1H
BEGIN:VTIMEZONE
TZID:America/Los_Angeles
BEGIN:DAYLIGHT
TZOFFSETFROM:-0800
TZOFFSETTO:-0700
TZNAME:PDT
DTSTART:20250309T100000
END:DAYLIGHT
BEGIN:STANDARD
TZOFFSETFROM:-0700
TZOFFSETTO:-0800
TZNAME:PST
DTSTART:20251102T090000
END:STANDARD
BEGIN:DAYLIGHT
TZOFFSETFROM:-0800
TZOFFSETTO:-0700
TZNAME:PDT
DTSTART:20260308T100000
END:DAYLIGHT
BEGIN:STANDARD
TZOFFSETFROM:-0700
TZOFFSETTO:-0800
TZNAME:PST
DTSTART:20261101T090000
END:STANDARD
BEGIN:DAYLIGHT
TZOFFSETFROM:-0800
TZOFFSETTO:-0700
TZNAME:PDT
DTSTART:20270314T100000
END:DAYLIGHT
BEGIN:STANDARD
TZOFFSETFROM:-0700
TZOFFSETTO:-0800
TZNAME:PST
DTSTART:20271107T090000
END:STANDARD
END:VTIMEZONE
BEGIN:VEVENT
DTSTART;TZID=America/Los_Angeles:20260306T073000
DTEND;TZID=America/Los_Angeles:20260307T170000
DTSTAMP:20260421T051719
CREATED:20260109T172135Z
LAST-MODIFIED:20260109T172256Z
UID:36431-1772782200-1772902800@eccseattle.org
SUMMARY:D6 NW Ministry Conference 西北事工大會
DESCRIPTION:
URL:https://eccseattle.org/news-events/d6-nw-ministry-conference-%e8%a5%bf%e5%8c%97%e4%ba%8b%e5%b7%a5%e5%a4%a7%e6%9c%83/
LOCATION:Northshore Church\, 10301 NE 145th St\,\, Kirkland\, WA\, 98034\, United States
CATEGORIES:All Campuses
END:VEVENT
END:VCALENDAR